BEGIN:VCALENDAR
VERSION:2.0
PRODID:-//SEEDS – Access Changes Everything - ECPv6.7.0//NONSGML v1.0//EN
CALSCALE:GREGORIAN
METHOD:PUBLISH
X-WR-CALNAME:SEEDS – Access Changes Everything
X-ORIGINAL-URL:https://seedsaccess.org
X-WR-CALDESC:Events for SEEDS – Access Changes Everything
REFRESH-INTERVAL;VALUE=DURATION:PT1H
X-Robots-Tag:noindex
X-PUBLISHED-TTL:PT1H
BEGIN:VTIMEZONE
TZID:America/New_York
BEGIN:DAYLIGHT
TZOFFSETFROM:-0500
TZOFFSETTO:-0400
TZNAME:EDT
DTSTART:20170312T070000
END:DAYLIGHT
BEGIN:STANDARD
TZOFFSETFROM:-0400
TZOFFSETTO:-0500
TZNAME:EST
DTSTART:20171105T060000
END:STANDARD
BEGIN:DAYLIGHT
TZOFFSETFROM:-0500
TZOFFSETTO:-0400
TZNAME:EDT
DTSTART:20180311T070000
END:DAYLIGHT
BEGIN:STANDARD
TZOFFSETFROM:-0400
TZOFFSETTO:-0500
TZNAME:EST
DTSTART:20181104T060000
END:STANDARD
END:VTIMEZONE
BEGIN:VEVENT
DTSTART;TZID=America/New_York:20180111T190000
DTEND;TZID=America/New_York:20180111T203000
DTSTAMP:20260425T065013
CREATED:20180104T185155Z
LAST-MODIFIED:20180104T185155Z
UID:24628-1515697200-1515702600@seedsaccess.org
SUMMARY:Admissions Information Session: Johnson Public Library
DESCRIPTION:Learn more about New Jersey SEEDS programs and the admissions process at this information session to be held at 7:00 p.m. at the Johnson Public Library (274 Main Street\, Hackensack). For additional information\, please contact Rachael Polton. \nPrint your ticket to serve as a reminder for this event; printed tickets are not necessary for entrance to this information session.
URL:https://seedsaccess.org/event/admissions-information-session-johnson-public-library-2/
LOCATION:Johnson Public Library\, 274 Main Street\, Hackensack\, NJ\, 07601\, United States
CATEGORIES:Admissions
ORGANIZER;CN="New Jersey SEEDS - Admissions":MAILTO:admissions@seedsaccess.org
END:VEVENT
BEGIN:VEVENT
DTSTART;TZID=America/New_York:20180110T180000
DTEND;TZID=America/New_York:20180110T193000
DTSTAMP:20260425T065013
CREATED:20170921T120031Z
LAST-MODIFIED:20171103T164058Z
UID:23227-1515607200-1515612600@seedsaccess.org
SUMMARY:Admissions Information Session: Ironbound Community Corporation
DESCRIPTION:Learn more about New Jersey SEEDS programs and the admissions process at this information session to be held at 6:00 p.m. at the Ironbound Community Corporation (1 New York Avenue\, Newark). For additional information\, please contact Imani Gilliam.  \nPrint your ticket to serve as a reminder for this event; printed tickets are not necessary for entrance to this information session.
URL:https://seedsaccess.org/event/admissions-information-session-ironbound-community-corporation-3/
LOCATION:Ironbound Community Corporation\, 1 New York Avenue\, Newark\, NJ\, 07102\, United States
CATEGORIES:Admissions
ORGANIZER;CN="New Jersey SEEDS - Admissions":MAILTO:admissions@seedsaccess.org
END:VEVENT
BEGIN:VEVENT
DTSTART;TZID=America/New_York:20180110T180000
DTEND;TZID=America/New_York:20180110T190000
DTSTAMP:20260425T065013
CREATED:20171103T165955Z
LAST-MODIFIED:20171108T164039Z
UID:24325-1515607200-1515610800@seedsaccess.org
SUMMARY:Information Session: Miller Branch of the Jersey City Public Library
DESCRIPTION:Learn more about New Jersey SEEDS programs and the admissions process at this information session to be held at 6:00 p.m. at the Miller Branch of the Jersey City Public Library (489 Bergen Ave.\, Jersey City). For additional information\, please contact Roydon Pellew. \nPrint your ticket to serve as a reminder for this event; printed tickets are not necessary for entrance to this information session.
URL:https://seedsaccess.org/event/information-session-miller-branch-jersey-city-public-library/
LOCATION:Miller Branch\, 489 Bergen Ave.\, Jersey City\, NJ\, United States
CATEGORIES:Admissions
ORGANIZER;CN="New Jersey SEEDS - Admissions":MAILTO:admissions@seedsaccess.org
END:VEVENT
BEGIN:VEVENT
DTSTART;TZID=America/New_York:20180109T190000
DTEND;TZID=America/New_York:20180109T200000
DTSTAMP:20260425T065013
CREATED:20180104T184617Z
LAST-MODIFIED:20180104T184617Z
UID:24625-1515524400-1515528000@seedsaccess.org
SUMMARY:Admissions Information Session: Community Baptist Church
DESCRIPTION:Learn more about New Jersey SEEDS programs and the admissions process at this information session to be held at 7:00 p.m. at the Community Baptist Church (224 1st Street\, Englewood). For additional information\, please contact Rachael Polton. \nPrint your ticket to serve as a reminder for this event; printed tickets are not necessary for entrance to this information session.
URL:https://seedsaccess.org/event/admissions-information-community-baptist-church/
LOCATION:Community Baptist Church\, 224 1st Street\, Englewood\, NJ\, United States
CATEGORIES:Admissions
ORGANIZER;CN="New Jersey SEEDS - Admissions":MAILTO:admissions@seedsaccess.org
END:VEVENT
BEGIN:VEVENT
DTSTART;VALUE=DATE:20171225
DTEND;VALUE=DATE:20171226
DTSTAMP:20260425T065013
CREATED:20171102T192135Z
LAST-MODIFIED:20171102T192135Z
UID:24309-1514160000-1514246399@seedsaccess.org
SUMMARY:SEEDS Office Closed
DESCRIPTION:
URL:https://seedsaccess.org/event/seeds-office-closed-44/
END:VEVENT
BEGIN:VEVENT
DTSTART;TZID=America/New_York:20171222T180000
DTEND;TZID=America/New_York:20171222T220000
DTSTAMP:20260425T065013
CREATED:20171121T213747Z
LAST-MODIFIED:20171129T212811Z
UID:24450-1513965600-1513980000@seedsaccess.org
SUMMARY:2017 Holiday Party
DESCRIPTION:Celebrate the holidays with NJ SEEDS! The event is only open to NJ SEEDS High School alumni (Grades 9-12) and CPP/College Scholars College alumni (Grades 13-14). Register online for $12 by Dec. 15. \n 
URL:https://seedsaccess.org/event/2017-holiday-party/
LOCATION:Hilton – Newark Penn Station\, 1 Gateway Center\, Newark\, NJ\, United States
ORGANIZER;CN="New Jersey SEEDS - Guidance Dept.":MAILTO:guidance@seedsaccess.org
END:VEVENT
BEGIN:VEVENT
DTSTART;TZID=America/New_York:20171218T180000
DTEND;TZID=America/New_York:20171218T200000
DTSTAMP:20260425T065013
CREATED:20171102T195155Z
LAST-MODIFIED:20171102T195155Z
UID:24317-1513620000-1513627200@seedsaccess.org
SUMMARY:Invitation Only: College Scholars Admissions Interviews
DESCRIPTION:
URL:https://seedsaccess.org/event/invitation-college-scholars-admissions-interviews-4/
LOCATION:New Jersey SEEDS\, 494 Broad Street\, Suite 105\, Newark\, NJ\, 07102\, United States
ORGANIZER;CN="New Jersey SEEDS - Admissions":MAILTO:admissions@seedsaccess.org
END:VEVENT
BEGIN:VEVENT
DTSTART;TZID=America/New_York:20171214T180000
DTEND;TZID=America/New_York:20171214T200000
DTSTAMP:20260425T065013
CREATED:20171102T192402Z
LAST-MODIFIED:20171102T192402Z
UID:24312-1513274400-1513281600@seedsaccess.org
SUMMARY:Invitation Only: College Scholars Admissions Interviews
DESCRIPTION:
URL:https://seedsaccess.org/event/invitation-college-scholars-admissions-interviews-3/
LOCATION:New Jersey SEEDS\, 494 Broad Street\, Suite 105\, Newark\, NJ\, 07102\, United States
ORGANIZER;CN="New Jersey SEEDS - Admissions":MAILTO:admissions@seedsaccess.org
END:VEVENT
BEGIN:VEVENT
DTSTART;TZID=America/New_York:20171213T180000
DTEND;TZID=America/New_York:20171213T200000
DTSTAMP:20260425T065013
CREATED:20171102T192313Z
LAST-MODIFIED:20171102T192313Z
UID:24311-1513188000-1513195200@seedsaccess.org
SUMMARY:Invitation Only: College Scholars Admissions Interviews
DESCRIPTION:
URL:https://seedsaccess.org/event/invitation-college-scholars-admissions-interviews-2/
LOCATION:New Jersey SEEDS\, 494 Broad Street\, Suite 105\, Newark\, NJ\, 07102\, United States
ORGANIZER;CN="New Jersey SEEDS - Admissions":MAILTO:admissions@seedsaccess.org
END:VEVENT
BEGIN:VEVENT
DTSTART;TZID=America/New_York:20171212T180000
DTEND;TZID=America/New_York:20171212T200000
DTSTAMP:20260425T065013
CREATED:20171102T192226Z
LAST-MODIFIED:20171102T192226Z
UID:24310-1513101600-1513108800@seedsaccess.org
SUMMARY:Invitation Only: College Scholars Admissions Interviews
DESCRIPTION:
URL:https://seedsaccess.org/event/invitation-college-scholars-admissions-interviews/
END:VEVENT
BEGIN:VEVENT
DTSTART;VALUE=DATE:20171207
DTEND;VALUE=DATE:20171208
DTSTAMP:20260425T065013
CREATED:20170911T204400Z
LAST-MODIFIED:20170911T204400Z
UID:23104-1512604800-1512691199@seedsaccess.org
SUMMARY:Admissions Early Decision Deadline
DESCRIPTION:For the Scholars and Young Scholars Programs. For more information\, contact our Admissions department.
URL:https://seedsaccess.org/event/admissions-early-decision-deadline/
END:VEVENT
BEGIN:VEVENT
DTSTART;TZID=America/New_York:20171205T180000
DTEND;TZID=America/New_York:20171205T193000
DTSTAMP:20260425T065013
CREATED:20170921T115550Z
LAST-MODIFIED:20171004T201308Z
UID:23225-1512496800-1512502200@seedsaccess.org
SUMMARY:Admissions Information Session: Newark Academy
DESCRIPTION:Learn more about New Jersey SEEDS programs and the admissions process at this information session to be held at 6:00 p.m. at Newark Academy (91 South Orange Avenue\, Livingston). For additional information\, please contact Imani Gilliam. \nPrint your ticket to serve as a reminder for this event; printed tickets are not necessary for entrance to this information session.
URL:https://seedsaccess.org/event/admissions-information-session-newark-academy/
LOCATION:Newark Academy\, 91 S. Orange Ave.\, Livingston\, NJ\, United States
CATEGORIES:Admissions
ORGANIZER;CN="New Jersey SEEDS - Admissions":MAILTO:admissions@seedsaccess.org
END:VEVENT
BEGIN:VEVENT
DTSTART;TZID=America/New_York:20171204T183000
DTEND;TZID=America/New_York:20171204T193000
DTSTAMP:20260425T065013
CREATED:20171019T163732Z
LAST-MODIFIED:20171019T163732Z
UID:23932-1512412200-1512415800@seedsaccess.org
SUMMARY:Admissions Information Session: Bayonne Public Library
DESCRIPTION:Learn more about New Jersey SEEDS programs and the admissions process at this information session to be held at 6:30 p.m. at the Bayonne Public Library (697 Avenue C\, Bayonne). For additional information\, please contact Theresa Murray. \nPrint your ticket to serve as a reminder for this event; printed tickets are not necessary for entrance to this information session.
URL:https://seedsaccess.org/event/admissions-information-session-bayonne-public-library/
LOCATION:Bayonne Public Library\, 697 Avenue C\, Bayonne\, NJ\, United States
CATEGORIES:Admissions
ORGANIZER;CN="New Jersey SEEDS - Admissions":MAILTO:admissions@seedsaccess.org
END:VEVENT
BEGIN:VEVENT
DTSTART;TZID=America/New_York:20171204T180000
DTEND;TZID=America/New_York:20171204T193000
DTSTAMP:20260425T065013
CREATED:20171128T134256Z
LAST-MODIFIED:20171128T134256Z
UID:24475-1512410400-1512415800@seedsaccess.org
SUMMARY:Admissions Information Session: Paterson Public Library
DESCRIPTION:Learn more about New Jersey SEEDS programs and the admissions process at this information session to be held at 6:00 p.m. at the Paterson Public Library (250 Broadway\, Paterson). For additional information\, please contact Andy Hoge. \nPrint your ticket to serve as a reminder for this event; printed tickets are not necessary for entrance to this information session.
URL:https://seedsaccess.org/event/admissions-information-session-paterson-public-library-3/
LOCATION:Paterson Public Library\, 250 Broadway\, Paterson\, NJ\, United States
CATEGORIES:Admissions
ORGANIZER;CN="New Jersey SEEDS - Admissions":MAILTO:admissions@seedsaccess.org
END:VEVENT
BEGIN:VEVENT
DTSTART;TZID=America/New_York:20171130T180000
DTEND;TZID=America/New_York:20171130T190000
DTSTAMP:20260425T065013
CREATED:20171103T165306Z
LAST-MODIFIED:20171120T200118Z
UID:24323-1512064800-1512068400@seedsaccess.org
SUMMARY:Information Session: Heights Branch of the Jersey City Public Library
DESCRIPTION:Learn more about New Jersey SEEDS programs and the admissions process at this information session to be held at 6:00 p.m. at the Heights Branch of the Jersey City Public Library (14 Zabriskie Street\, Jersey City). For additional information\, please contact Theresa Murray. \nPrint your ticket to serve as a reminder for this event; printed tickets are not necessary for entrance to this information session.
URL:https://seedsaccess.org/event/information-session-heights-branch-jersey-city-public-library/
LOCATION:The Heights Branch\, 14 Zabriskie St.\, Jersey City\, NJ\, 07307\, United States
CATEGORIES:Admissions
ORGANIZER;CN="New Jersey SEEDS - Admissions":MAILTO:admissions@seedsaccess.org
END:VEVENT
BEGIN:VEVENT
DTSTART;TZID=America/New_York:20171129T180000
DTEND;TZID=America/New_York:20171129T190000
DTSTAMP:20260425T065013
CREATED:20171108T163055Z
LAST-MODIFIED:20171121T224250Z
UID:24375-1511978400-1511982000@seedsaccess.org
SUMMARY:Admissions Information Session: Hoboken Library Pop-Up Branch at Monroe Gardens
DESCRIPTION:Learn more about New Jersey SEEDS programs and the admissions process at this information session to be held at 6:00 p.m. at the Hoboken Library’s Pop-Up Branch at Monroe Gardens (221 Jackson St.\, Hoboken). For additional information\, please contact Theresa Murray. \nPrint your ticket to serve as a reminder for this event; printed tickets are not necessary for entrance to this information session.
URL:https://seedsaccess.org/event/admissions-information-session-hoboken-pop-library-monroe-gardens/
LOCATION:Hoboken Library Pop-Up Branch – Monroe Gardens\, 221 Jackson Street\, Hoboken\, NJ\, 07030\, United States
CATEGORIES:Admissions
ORGANIZER;CN="New Jersey SEEDS - Admissions":MAILTO:admissions@seedsaccess.org
END:VEVENT
BEGIN:VEVENT
DTSTART;VALUE=DATE:20171123
DTEND;VALUE=DATE:20171125
DTSTAMP:20260425T065013
CREATED:20171102T192035Z
LAST-MODIFIED:20171102T192035Z
UID:24308-1511395200-1511567999@seedsaccess.org
SUMMARY:SEEDS Office Closed
DESCRIPTION:
URL:https://seedsaccess.org/event/seeds-office-closed-43/
END:VEVENT
BEGIN:VEVENT
DTSTART;VALUE=DATE:20171120
DTEND;VALUE=DATE:20171121
DTSTAMP:20260425T065013
CREATED:20170920T200233Z
LAST-MODIFIED:20170920T200233Z
UID:23214-1511136000-1511222399@seedsaccess.org
SUMMARY:Guidance Fall College Tour
DESCRIPTION:Save your spot!
URL:https://seedsaccess.org/event/guidance-fall-college-tour-4/
ORGANIZER;CN="New Jersey SEEDS - Guidance Dept.":MAILTO:guidance@seedsaccess.org
END:VEVENT
BEGIN:VEVENT
DTSTART;VALUE=DATE:20171118
DTEND;VALUE=DATE:20171119
DTSTAMP:20260425T065013
CREATED:20171102T191958Z
LAST-MODIFIED:20171102T191958Z
UID:24307-1510963200-1511049599@seedsaccess.org
SUMMARY:Scholars PFS/TADS Workshop
DESCRIPTION:
URL:https://seedsaccess.org/event/scholars-pfstads-workshop-3/
LOCATION:Dwight-Englewood\, 315 E Palisade Ave.\, Englewood\, NJ\, United States
END:VEVENT
BEGIN:VEVENT
DTSTART;TZID=America/New_York:20171115T180000
DTEND;TZID=America/New_York:20171115T193000
DTSTAMP:20260425T065013
CREATED:20170921T114800Z
LAST-MODIFIED:20171114T214428Z
UID:23223-1510768800-1510774200@seedsaccess.org
SUMMARY:Admissions Information Session: Christina Seix Academy
DESCRIPTION:Learn more about New Jersey SEEDS programs and the admissions process at this information session to be held at 6:00 p.m. at Christina Seix Academy (1550 Stuyvesant Avenue\, Trenton). For additional information\, please contact Imani Gilliam. \nPrint your ticket to serve as a reminder for this event; printed tickets are not necessary for entrance to this information session.
URL:https://seedsaccess.org/event/admissions-information-session-christina-seix-academy-2/
LOCATION:Christina Seix Academy\, 1150 Stuyvesant Ave.\, Trenton\, NJ\, 08618\, United States
CATEGORIES:Admissions
ORGANIZER;CN="New Jersey SEEDS - Admissions":MAILTO:admissions@seedsaccess.org
END:VEVENT
BEGIN:VEVENT
DTSTART;VALUE=DATE:20171115
DTEND;VALUE=DATE:20171116
DTSTAMP:20260425T065013
CREATED:20170911T204756Z
LAST-MODIFIED:20171106T182128Z
UID:23106-1510704000-1510790399@seedsaccess.org
SUMMARY:College Scholars Admission Deadline
DESCRIPTION:For more information\, contact our Admissions department.
URL:https://seedsaccess.org/event/college-scholars-admission-deadline/
END:VEVENT
BEGIN:VEVENT
DTSTART;TZID=America/New_York:20171113T180000
DTEND;TZID=America/New_York:20171113T203000
DTSTAMP:20260425T065013
CREATED:20171013T155617Z
LAST-MODIFIED:20171013T155617Z
UID:23824-1510596000-1510605000@seedsaccess.org
SUMMARY:Admissions Information Session: Clifton Public Library
DESCRIPTION:Learn more about New Jersey SEEDS programs and the admissions process at this information session to be held at 6:00 p.m. at the Clifton Public Library (292 Piaget Avenue\, Clifton). For additional information\, please contact Roydon Pellew. \nPrint your ticket to serve as a reminder for this event; printed tickets are not necessary for entrance to this information session.
URL:https://seedsaccess.org/event/admissions-information-session-clifton-public-library-3/
LOCATION:Clifton Public Library\, 292 Piaget Ave.\, Clifton\, NJ\, 07011\, United States
CATEGORIES:Admissions
ORGANIZER;CN="New Jersey SEEDS - Admissions":MAILTO:admissions@seedsaccess.org
END:VEVENT
BEGIN:VEVENT
DTSTART;VALUE=DATE:20171111
DTEND;VALUE=DATE:20171112
DTSTAMP:20260425T065013
CREATED:20171102T191843Z
LAST-MODIFIED:20171102T191843Z
UID:24306-1510358400-1510444799@seedsaccess.org
SUMMARY:Scholars PFS/TADS Workshop
DESCRIPTION:
URL:https://seedsaccess.org/event/scholars-pfstads-workshop-2/
LOCATION:The Pingry School\, 131 Martinsville Rd.\, Basking Ridge\, NJ\, 07920\, United States
ORGANIZER;CN="New Jersey SEEDS - Programs":MAILTO:igilliam@seedsaccess.org
END:VEVENT
BEGIN:VEVENT
DTSTART;TZID=America/New_York:20171108T180000
DTEND;TZID=America/New_York:20171108T193000
DTSTAMP:20260425T065013
CREATED:20170921T114411Z
LAST-MODIFIED:20171004T201514Z
UID:23221-1510164000-1510169400@seedsaccess.org
SUMMARY:Admissions Information Session: Ironbound Community Corporation
DESCRIPTION:Learn more about New Jersey SEEDS programs and the admissions process at this information session to be held at 6:00 p.m. at the Ironbound Community Corporation (1 New York Avenue\, Newark). For additional information\, please contact Imani Gilliam. \nPrint your ticket to serve as a reminder for this event; printed tickets are not necessary for entrance to this information session.
URL:https://seedsaccess.org/event/admissions-information-session-ironbound-community-corporation-2/
LOCATION:Ironbound Community Corporation\, 1 New York Avenue\, Newark\, NJ\, 07102\, United States
CATEGORIES:Admissions
ORGANIZER;CN="New Jersey SEEDS - Admissions":MAILTO:admissions@seedsaccess.org
END:VEVENT
BEGIN:VEVENT
DTSTART;VALUE=DATE:20171104
DTEND;VALUE=DATE:20171105
DTSTAMP:20260425T065013
CREATED:20171102T191728Z
LAST-MODIFIED:20171102T191728Z
UID:24305-1509753600-1509839999@seedsaccess.org
SUMMARY:YSP PFS/TADS Workshop
DESCRIPTION:
URL:https://seedsaccess.org/event/ysp-pfstads-workshop/
LOCATION:Newark Academy\, 91 S. Orange Ave.\, Livingston\, NJ\, United States
ORGANIZER;CN="New Jersey SEEDS - Programs":MAILTO:igilliam@seedsaccess.org
END:VEVENT
BEGIN:VEVENT
DTSTART;TZID=America/New_York:20171102T180000
DTEND;TZID=America/New_York:20171102T193000
DTSTAMP:20260425T065013
CREATED:20171013T155140Z
LAST-MODIFIED:20171013T155846Z
UID:23822-1509645600-1509651000@seedsaccess.org
SUMMARY:Admissions Information Session: Union City Library
DESCRIPTION:Learn more about New Jersey SEEDS programs and the admissions process at this information session to be held at 6:00 p.m. at the Union City Library (324 43rd Street\, Union City). For additional information\, please contact Johulin Zuluaga. \nPrint your ticket to serve as a reminder for this event; printed tickets are not necessary for entrance to this information session.
URL:https://seedsaccess.org/event/admissions-information-session-union-city-library/
LOCATION:Union City Public Library – Main Branch\, 324 43rd St.\, Union City\, NJ\, 07087\, United States
CATEGORIES:Admissions
ORGANIZER;CN="New Jersey SEEDS - Admissions":MAILTO:admissions@seedsaccess.org
END:VEVENT
BEGIN:VEVENT
DTSTART;TZID=America/New_York:20171101T180000
DTEND;TZID=America/New_York:20171101T200000
DTSTAMP:20260425T065013
CREATED:20171019T165720Z
LAST-MODIFIED:20171023T185839Z
UID:23937-1509559200-1509566400@seedsaccess.org
SUMMARY:Admissions Information Session: East Orange Public Library
DESCRIPTION:Learn more about New Jersey SEEDS programs and the admissions process at this information session to be held at 6:00 p.m. at the East Orange Public Library (21 Arlington Ave.\, East Orange). For additional information\, please contact Seth Moncrease. \nPrint your ticket to serve as a reminder for this event; printed tickets are not necessary for entrance to this information session.
URL:https://seedsaccess.org/event/admissions-information-session-east-orange-public-library-3/
LOCATION:East Orange Public Library\, 21 S. Arlington Ave.\, East Orange\, NJ\, United States
CATEGORIES:Admissions
ORGANIZER;CN="New Jersey SEEDS - Admissions":MAILTO:admissions@seedsaccess.org
END:VEVENT
BEGIN:VEVENT
DTSTART;VALUE=DATE:20171028
DTEND;VALUE=DATE:20171029
DTSTAMP:20260425T065013
CREATED:20171102T191646Z
LAST-MODIFIED:20171102T191646Z
UID:24304-1509148800-1509235199@seedsaccess.org
SUMMARY:Scholars PFS/TADS Workshop
DESCRIPTION:
URL:https://seedsaccess.org/event/scholars-pfstads-workshop/
LOCATION:Seton Hall Preparatory School\, 120 Northfield Ave.\, West Orange\, NJ\, United States
ORGANIZER;CN="New Jersey SEEDS - Programs":MAILTO:igilliam@seedsaccess.org
END:VEVENT
BEGIN:VEVENT
DTSTART;TZID=America/New_York:20171026T180000
DTEND;TZID=America/New_York:20171026T200000
DTSTAMP:20260425T065013
CREATED:20171010T211643Z
LAST-MODIFIED:20171010T211643Z
UID:23785-1509040800-1509048000@seedsaccess.org
SUMMARY:Admissions Information Session: Newark Public Library (Main Branch)
DESCRIPTION:Learn more about New Jersey SEEDS programs and the admissions process at this information session to be held at 6:00 p.m. at Newark Public Library’s Main Branch on the 4th Floor (5 Washington Street\, Newark). For additional information\, please contact Aaron Tucker. \nPrint your ticket to serve as a reminder for this event; printed tickets are not necessary for entrance to this information session.
URL:https://seedsaccess.org/event/admissions-information-session-newark-public-library-main-branch/
LOCATION:Newark Public Library\, 5 Washington Street\, Newark\, United States
CATEGORIES:Admissions
ORGANIZER;CN="New Jersey SEEDS - Admissions":MAILTO:admissions@seedsaccess.org
END:VEVENT
BEGIN:VEVENT
DTSTART;TZID=America/New_York:20171023T180000
DTEND;TZID=America/New_York:20171023T193000
DTSTAMP:20260425T065013
CREATED:20170921T113831Z
LAST-MODIFIED:20171013T153948Z
UID:23219-1508781600-1508787000@seedsaccess.org
SUMMARY:Admissions Information Session: North Bergen Library
DESCRIPTION:Learn more about New Jersey SEEDS programs and the admissions process at this information session to be held at 6:00 p.m. at the North Bergen Library (8411 Bergenline Ave\, North Bergen). For additional information\, please contact Johulin Zuluaga. \nPrint your ticket to serve as a reminder for this event; printed tickets are not necessary for entrance to this information session.
URL:https://seedsaccess.org/event/admissions-information-session-north-bergen-library-2/
LOCATION:North Bergen Library – Main Branch\, 8411 Bergenline Avenue\, North Bergen\, United States
CATEGORIES:Admissions
ORGANIZER;CN="New Jersey SEEDS - Admissions":MAILTO:admissions@seedsaccess.org
END:VEVENT
END:VCALENDAR